BEGIN:VCALENDAR
VERSION:2.0
PRODID:-//Schmelzer Musikschule - ECPv6.15.20//NONSGML v1.0//EN
CALSCALE:GREGORIAN
METHOD:PUBLISH
X-WR-CALNAME:Schmelzer Musikschule
X-ORIGINAL-URL:https://schmelzer-musikschule-scheibbs.gv.at
X-WR-CALDESC:Veranstaltungen für Schmelzer Musikschule
REFRESH-INTERVAL;VALUE=DURATION:PT1H
X-Robots-Tag:noindex
X-PUBLISHED-TTL:PT1H
BEGIN:VTIMEZONE
TZID:Europe/Vienna
BEGIN:DAYLIGHT
TZOFFSETFROM:+0100
TZOFFSETTO:+0200
TZNAME:CEST
DTSTART:20240331T010000
END:DAYLIGHT
BEGIN:STANDARD
TZOFFSETFROM:+0200
TZOFFSETTO:+0100
TZNAME:CET
DTSTART:20241027T010000
END:STANDARD
BEGIN:DAYLIGHT
TZOFFSETFROM:+0100
TZOFFSETTO:+0200
TZNAME:CEST
DTSTART:20250330T010000
END:DAYLIGHT
BEGIN:STANDARD
TZOFFSETFROM:+0200
TZOFFSETTO:+0100
TZNAME:CET
DTSTART:20251026T010000
END:STANDARD
BEGIN:DAYLIGHT
TZOFFSETFROM:+0100
TZOFFSETTO:+0200
TZNAME:CEST
DTSTART:20260329T010000
END:DAYLIGHT
BEGIN:STANDARD
TZOFFSETFROM:+0200
TZOFFSETTO:+0100
TZNAME:CET
DTSTART:20261025T010000
END:STANDARD
END:VTIMEZONE
BEGIN:VEVENT
DTSTART;TZID=Europe/Vienna:20250221T160000
DTEND;TZID=Europe/Vienna:20250221T170000
DTSTAMP:20260424T150111
CREATED:20250310T115602Z
LAST-MODIFIED:20250310T115602Z
UID:3050-1740153600-1740157200@schmelzer-musikschule-scheibbs.gv.at
SUMMARY:Klassenabend Klasse Manuela Reiter
DESCRIPTION:Es musizieren SchülerInnen der Klasse Manuela Reiter \nOrt: Mehrzweckraum Oberndorf \nBeginn : 16:00
URL:https://schmelzer-musikschule-scheibbs.gv.at/termine/klassenabend-klasse-manuela-reiter/
ATTACH;FMTTYPE=image/jpeg:https://schmelzer-musikschule-scheibbs.gv.at/wp-content/uploads/2025/03/shared-image.jpeg
END:VEVENT
BEGIN:VEVENT
DTSTART;TZID=Europe/Vienna:20250221T170000
DTEND;TZID=Europe/Vienna:20250221T180000
DTSTAMP:20260424T150111
CREATED:20250213T080133Z
LAST-MODIFIED:20250216T205814Z
UID:3008-1740157200-1740160800@schmelzer-musikschule-scheibbs.gv.at
SUMMARY:Klassenabend Klarinette
DESCRIPTION:Es musizieren SchülerInnen der Klasse Johanna Dickbauer \n  \nBeginn 17:00 \nSchmelzer Saal Scheibbs
URL:https://schmelzer-musikschule-scheibbs.gv.at/termine/klassenabend-klarinette/
ATTACH;FMTTYPE=image/jpeg:https://schmelzer-musikschule-scheibbs.gv.at/wp-content/uploads/2025/02/Flyer-Klassenabend-2122025_250214_090212.jpg
END:VEVENT
END:VCALENDAR