BEGIN:VCALENDAR
VERSION:2.0
PRODID:-//Schmelzer Musikschule - ECPv6.15.20//NONSGML v1.0//EN
CALSCALE:GREGORIAN
METHOD:PUBLISH
X-WR-CALNAME:Schmelzer Musikschule
X-ORIGINAL-URL:https://schmelzer-musikschule-scheibbs.gv.at
X-WR-CALDESC:Veranstaltungen für Schmelzer Musikschule
REFRESH-INTERVAL;VALUE=DURATION:PT1H
X-Robots-Tag:noindex
X-PUBLISHED-TTL:PT1H
BEGIN:VTIMEZONE
TZID:Europe/Vienna
BEGIN:DAYLIGHT
TZOFFSETFROM:+0100
TZOFFSETTO:+0200
TZNAME:CEST
DTSTART:20240331T010000
END:DAYLIGHT
BEGIN:STANDARD
TZOFFSETFROM:+0200
TZOFFSETTO:+0100
TZNAME:CET
DTSTART:20241027T010000
END:STANDARD
BEGIN:DAYLIGHT
TZOFFSETFROM:+0100
TZOFFSETTO:+0200
TZNAME:CEST
DTSTART:20250330T010000
END:DAYLIGHT
BEGIN:STANDARD
TZOFFSETFROM:+0200
TZOFFSETTO:+0100
TZNAME:CET
DTSTART:20251026T010000
END:STANDARD
BEGIN:DAYLIGHT
TZOFFSETFROM:+0100
TZOFFSETTO:+0200
TZNAME:CEST
DTSTART:20260329T010000
END:DAYLIGHT
BEGIN:STANDARD
TZOFFSETFROM:+0200
TZOFFSETTO:+0100
TZNAME:CET
DTSTART:20261025T010000
END:STANDARD
END:VTIMEZONE
BEGIN:VEVENT
DTSTART;TZID=Europe/Vienna:20250427T103000
DTEND;TZID=Europe/Vienna:20250427T123000
DTSTAMP:20260423T025810
CREATED:20250402T100104Z
LAST-MODIFIED:20250409T083929Z
UID:3147-1745749800-1745757000@schmelzer-musikschule-scheibbs.gv.at
SUMMARY:Großes Mostviertler Hornensemble
DESCRIPTION:Am Sonntag 27.April 2025 um 10.30Uhr findet bereits zum 8.Mal das Konzert „Großes Mostviertler Hornensemble“ statt.\nIn diesem Jahr werden wir zu Gast im K4 Kilb sein.\nDieses Projekt wird durch die Zusammenarbeit der HornlehrerInnen aus den verschiedenen Musikschulen der Bezirke Scheibbs\, Melk und Amstetten  realisiert.\nDabei musizieren HornschülerInnen\, HornlehrerInnen\, HornistInnen aus Musikvereinen und Hornstudierende in Ensembles in drei verschiedenen Alters- und Schwierigkeitsstufen.\nDem Publikum wird in einem abwechslungsreichen Programm der wunderbare Klang aber auch die technischen Möglichkeiten des Horns zu Gehör gebracht.
URL:https://schmelzer-musikschule-scheibbs.gv.at/termine/grosses-mostviertler-hornensemble-2/
ATTACH;FMTTYPE=image/jpeg:https://schmelzer-musikschule-scheibbs.gv.at/wp-content/uploads/2025/04/Horn25.jpg
END:VEVENT
END:VCALENDAR