BEGIN:VCALENDAR
VERSION:2.0
PRODID:-//Schmelzer Musikschule - ECPv6.15.20//NONSGML v1.0//EN
CALSCALE:GREGORIAN
METHOD:PUBLISH
X-ORIGINAL-URL:https://schmelzer-musikschule-scheibbs.gv.at
X-WR-CALDESC:Veranstaltungen für Schmelzer Musikschule
REFRESH-INTERVAL;VALUE=DURATION:PT1H
X-Robots-Tag:noindex
X-PUBLISHED-TTL:PT1H
BEGIN:VTIMEZONE
TZID:Europe/Vienna
BEGIN:DAYLIGHT
TZOFFSETFROM:+0100
TZOFFSETTO:+0200
TZNAME:CEST
DTSTART:20240331T010000
END:DAYLIGHT
BEGIN:STANDARD
TZOFFSETFROM:+0200
TZOFFSETTO:+0100
TZNAME:CET
DTSTART:20241027T010000
END:STANDARD
BEGIN:DAYLIGHT
TZOFFSETFROM:+0100
TZOFFSETTO:+0200
TZNAME:CEST
DTSTART:20250330T010000
END:DAYLIGHT
BEGIN:STANDARD
TZOFFSETFROM:+0200
TZOFFSETTO:+0100
TZNAME:CET
DTSTART:20251026T010000
END:STANDARD
BEGIN:DAYLIGHT
TZOFFSETFROM:+0100
TZOFFSETTO:+0200
TZNAME:CEST
DTSTART:20260329T010000
END:DAYLIGHT
BEGIN:STANDARD
TZOFFSETFROM:+0200
TZOFFSETTO:+0100
TZNAME:CET
DTSTART:20261025T010000
END:STANDARD
END:VTIMEZONE
BEGIN:VEVENT
DTSTART;TZID=Europe/Vienna:20250515T180000
DTEND;TZID=Europe/Vienna:20250515T213000
DTSTAMP:20260423T013259
CREATED:20250402T100330Z
LAST-MODIFIED:20250429T130716Z
UID:3149-1747332000-1747344600@schmelzer-musikschule-scheibbs.gv.at
SUMMARY:Musik beim Wirt - GH "Ybbsblick" in Göstling
DESCRIPTION:Ein Volksmusikstammtisch mit Beiträgen von Musikschülern. Details folgen…
URL:https://schmelzer-musikschule-scheibbs.gv.at/termine/musik-beim-wirt-gh-ybbsblick-in-goestling/
ATTACH;FMTTYPE=image/jpeg:https://schmelzer-musikschule-scheibbs.gv.at/wp-content/uploads/2025/04/IMG_3404.jpg
END:VEVENT
END:VCALENDAR