BEGIN:VCALENDAR
VERSION:2.0
PRODID:-//Schmelzer Musikschule - ECPv6.15.20//NONSGML v1.0//EN
CALSCALE:GREGORIAN
METHOD:PUBLISH
X-WR-CALNAME:Schmelzer Musikschule
X-ORIGINAL-URL:https://schmelzer-musikschule-scheibbs.gv.at
X-WR-CALDESC:Veranstaltungen für Schmelzer Musikschule
REFRESH-INTERVAL;VALUE=DURATION:PT1H
X-Robots-Tag:noindex
X-PUBLISHED-TTL:PT1H
BEGIN:VTIMEZONE
TZID:Europe/Vienna
BEGIN:DAYLIGHT
TZOFFSETFROM:+0100
TZOFFSETTO:+0200
TZNAME:CEST
DTSTART:20240331T010000
END:DAYLIGHT
BEGIN:STANDARD
TZOFFSETFROM:+0200
TZOFFSETTO:+0100
TZNAME:CET
DTSTART:20241027T010000
END:STANDARD
BEGIN:DAYLIGHT
TZOFFSETFROM:+0100
TZOFFSETTO:+0200
TZNAME:CEST
DTSTART:20250330T010000
END:DAYLIGHT
BEGIN:STANDARD
TZOFFSETFROM:+0200
TZOFFSETTO:+0100
TZNAME:CET
DTSTART:20251026T010000
END:STANDARD
BEGIN:DAYLIGHT
TZOFFSETFROM:+0100
TZOFFSETTO:+0200
TZNAME:CEST
DTSTART:20260329T010000
END:DAYLIGHT
BEGIN:STANDARD
TZOFFSETFROM:+0200
TZOFFSETTO:+0100
TZNAME:CET
DTSTART:20261025T010000
END:STANDARD
END:VTIMEZONE
BEGIN:VEVENT
DTSTART;TZID=Europe/Vienna:20250517T140000
DTEND;TZID=Europe/Vienna:20250517T160000
DTSTAMP:20260423T013946
CREATED:20250312T101644Z
LAST-MODIFIED:20250514T144602Z
UID:3065-1747490400-1747497600@schmelzer-musikschule-scheibbs.gv.at
SUMMARY:Stadtfest Scheibbs
DESCRIPTION:MUSIKPROGRAMM \n  \nBühne Bahnhofstraße: \n11:00 – 12:00 Uhr: Dance Aerobic Acts mit Eva Ehrlich. 4 Tanzacts von Kids bis Erwachsene.  \n13.00 – 13.30 Uhr: Chor der Volksschule Scheibbs \n14.00 – 16.00 Uhr: Ensembles und Bands der Musikschule Scheibbs \n16.00 – 17.00 Uhr: Bands des BORG Scheibbs: „7 Beats“ und „Pulse“  \n18.45 – 20.00 Uhr: Carmine & the Runaway Boys – Blues\, Rock\, Surf-Rock\, Country \n20.30 Uhr: salted sugar – die großen Klassiker der 70er Jahre von Deep Purple\, Uriah Heep und Whitesnake. Aber auch Songs von Guns&Roses\, Steppenwolf\, Neil Young oder AC/DC.
URL:https://schmelzer-musikschule-scheibbs.gv.at/termine/stadtfest-scheibbs/
ATTACH;FMTTYPE=image/png:https://schmelzer-musikschule-scheibbs.gv.at/wp-content/uploads/2025/03/Bildschirmfoto-2025-05-14-um-16.45.04.png
END:VEVENT
END:VCALENDAR