BEGIN:VCALENDAR
VERSION:2.0
PRODID:-//Schmelzer Musikschule - ECPv6.15.20//NONSGML v1.0//EN
CALSCALE:GREGORIAN
METHOD:PUBLISH
X-WR-CALNAME:Schmelzer Musikschule
X-ORIGINAL-URL:https://schmelzer-musikschule-scheibbs.gv.at
X-WR-CALDESC:Veranstaltungen für Schmelzer Musikschule
REFRESH-INTERVAL;VALUE=DURATION:PT1H
X-Robots-Tag:noindex
X-PUBLISHED-TTL:PT1H
BEGIN:VTIMEZONE
TZID:Europe/Vienna
BEGIN:DAYLIGHT
TZOFFSETFROM:+0100
TZOFFSETTO:+0200
TZNAME:CEST
DTSTART:20240331T010000
END:DAYLIGHT
BEGIN:STANDARD
TZOFFSETFROM:+0200
TZOFFSETTO:+0100
TZNAME:CET
DTSTART:20241027T010000
END:STANDARD
BEGIN:DAYLIGHT
TZOFFSETFROM:+0100
TZOFFSETTO:+0200
TZNAME:CEST
DTSTART:20250330T010000
END:DAYLIGHT
BEGIN:STANDARD
TZOFFSETFROM:+0200
TZOFFSETTO:+0100
TZNAME:CET
DTSTART:20251026T010000
END:STANDARD
BEGIN:DAYLIGHT
TZOFFSETFROM:+0100
TZOFFSETTO:+0200
TZNAME:CEST
DTSTART:20260329T010000
END:DAYLIGHT
BEGIN:STANDARD
TZOFFSETFROM:+0200
TZOFFSETTO:+0100
TZNAME:CET
DTSTART:20261025T010000
END:STANDARD
END:VTIMEZONE
BEGIN:VEVENT
DTSTART;TZID=Europe/Vienna:20250528T183000
DTEND;TZID=Europe/Vienna:20250528T200000
DTSTAMP:20260423T000819
CREATED:20250402T100514Z
LAST-MODIFIED:20250402T100514Z
UID:3151-1748457000-1748462400@schmelzer-musikschule-scheibbs.gv.at
SUMMARY:Musikschulkonzert in St. Georgen an der Leys
DESCRIPTION:Es musizieren Schülerinnen und Schüler des Standorts St. Georgen an der Leys.\nOrt: Turnsaal der VS
URL:https://schmelzer-musikschule-scheibbs.gv.at/termine/musikschulkonzert-in-st-georgen-an-der-leys/
END:VEVENT
END:VCALENDAR