BEGIN:VCALENDAR
VERSION:2.0
PRODID:-//Schmelzer Musikschule - ECPv6.15.20//NONSGML v1.0//EN
CALSCALE:GREGORIAN
METHOD:PUBLISH
X-WR-CALNAME:Schmelzer Musikschule
X-ORIGINAL-URL:https://schmelzer-musikschule-scheibbs.gv.at
X-WR-CALDESC:Veranstaltungen für Schmelzer Musikschule
REFRESH-INTERVAL;VALUE=DURATION:PT1H
X-Robots-Tag:noindex
X-PUBLISHED-TTL:PT1H
BEGIN:VTIMEZONE
TZID:Europe/Vienna
BEGIN:DAYLIGHT
TZOFFSETFROM:+0100
TZOFFSETTO:+0200
TZNAME:CEST
DTSTART:20240331T010000
END:DAYLIGHT
BEGIN:STANDARD
TZOFFSETFROM:+0200
TZOFFSETTO:+0100
TZNAME:CET
DTSTART:20241027T010000
END:STANDARD
BEGIN:DAYLIGHT
TZOFFSETFROM:+0100
TZOFFSETTO:+0200
TZNAME:CEST
DTSTART:20250330T010000
END:DAYLIGHT
BEGIN:STANDARD
TZOFFSETFROM:+0200
TZOFFSETTO:+0100
TZNAME:CET
DTSTART:20251026T010000
END:STANDARD
BEGIN:DAYLIGHT
TZOFFSETFROM:+0100
TZOFFSETTO:+0200
TZNAME:CEST
DTSTART:20260329T010000
END:DAYLIGHT
BEGIN:STANDARD
TZOFFSETFROM:+0200
TZOFFSETTO:+0100
TZNAME:CET
DTSTART:20261025T010000
END:STANDARD
END:VTIMEZONE
BEGIN:VEVENT
DTSTART;TZID=Europe/Vienna:20250606T170000
DTEND;TZID=Europe/Vienna:20250606T180000
DTSTAMP:20260423T000722
CREATED:20250602T162438Z
LAST-MODIFIED:20250602T162438Z
UID:3232-1749229200-1749232800@schmelzer-musikschule-scheibbs.gv.at
SUMMARY:Klassenabend Querflöte - Katharina Kölem-Kriener
DESCRIPTION:Ort: Schmelzersaal \nBeginn: 17:00
URL:https://schmelzer-musikschule-scheibbs.gv.at/termine/klassenabend-querfloete-katharina-koelem-kriener/
END:VEVENT
BEGIN:VEVENT
DTSTART;TZID=Europe/Vienna:20250606T170000
DTEND;TZID=Europe/Vienna:20250606T190000
DTSTAMP:20260423T000722
CREATED:20250310T115107Z
LAST-MODIFIED:20250602T162606Z
UID:3046-1749229200-1749236400@schmelzer-musikschule-scheibbs.gv.at
SUMMARY:Querflöten Klassenabend
DESCRIPTION:Es musizieren SchülerInnen der Klassen Katharina Kölem Kriener. \nOrt: Schmelzer Saal Scheibbs \nBeginn 17:00
URL:https://schmelzer-musikschule-scheibbs.gv.at/termine/querfloeten-klassenabend-3/
ATTACH;FMTTYPE=image/jpeg:https://schmelzer-musikschule-scheibbs.gv.at/wp-content/uploads/2025/06/Klassenabend-Scheibbs-25.pdf-2025-05-16-09_00_42.jpg
END:VEVENT
END:VCALENDAR