BEGIN:VCALENDAR
VERSION:2.0
PRODID:-//Schmelzer Musikschule - ECPv6.15.20//NONSGML v1.0//EN
CALSCALE:GREGORIAN
METHOD:PUBLISH
X-ORIGINAL-URL:https://schmelzer-musikschule-scheibbs.gv.at
X-WR-CALDESC:Veranstaltungen für Schmelzer Musikschule
REFRESH-INTERVAL;VALUE=DURATION:PT1H
X-Robots-Tag:noindex
X-PUBLISHED-TTL:PT1H
BEGIN:VTIMEZONE
TZID:Europe/Vienna
BEGIN:DAYLIGHT
TZOFFSETFROM:+0100
TZOFFSETTO:+0200
TZNAME:CEST
DTSTART:20250330T010000
END:DAYLIGHT
BEGIN:STANDARD
TZOFFSETFROM:+0200
TZOFFSETTO:+0100
TZNAME:CET
DTSTART:20251026T010000
END:STANDARD
BEGIN:DAYLIGHT
TZOFFSETFROM:+0100
TZOFFSETTO:+0200
TZNAME:CEST
DTSTART:20260329T010000
END:DAYLIGHT
BEGIN:STANDARD
TZOFFSETFROM:+0200
TZOFFSETTO:+0100
TZNAME:CET
DTSTART:20261025T010000
END:STANDARD
BEGIN:DAYLIGHT
TZOFFSETFROM:+0100
TZOFFSETTO:+0200
TZNAME:CEST
DTSTART:20270328T010000
END:DAYLIGHT
BEGIN:STANDARD
TZOFFSETFROM:+0200
TZOFFSETTO:+0100
TZNAME:CET
DTSTART:20271031T010000
END:STANDARD
END:VTIMEZONE
BEGIN:VEVENT
DTSTART;VALUE=DATE:20260407
DTEND;VALUE=DATE:20260501
DTSTAMP:20260419T151634
CREATED:20260209T162627Z
LAST-MODIFIED:20260209T162627Z
UID:3400-1775520000-1777593599@schmelzer-musikschule-scheibbs.gv.at
SUMMARY:Instrumente kennen lernen und probieren
DESCRIPTION:Ein Monat lang öffnen wir unsere Unterrichtsräume für dich.\nAb 7. April kannst du dich selbst auf deinem Lieblingsinstrument ausprobieren\noder neue Instrumente für dich entdecken. \nDetails zur Anmeldung folgen.
URL:https://schmelzer-musikschule-scheibbs.gv.at/termine/instrumente-kennen-lernen-und-probieren/
END:VEVENT
BEGIN:VEVENT
DTSTART;TZID=Europe/Vienna:20260429T180000
DTEND;TZID=Europe/Vienna:20260429T190000
DTSTAMP:20260419T151634
CREATED:20260209T163315Z
LAST-MODIFIED:20260407T145820Z
UID:3410-1777485600-1777489200@schmelzer-musikschule-scheibbs.gv.at
SUMMARY:„Come together“ by Spring Festival Scheibbs\, Tag 3
DESCRIPTION:in der Klassenabendreihe gibt es am Mittwoch das Special „Come together“ \nBenefizkonzert zu Gunsten „Gesundheit- und soziale Dienste Rotes Kreuz Scheibbs \nSchülerinnen und Schüler der Klassen von Konrad Jankot\, Philipp Schagerl\, Katharina Kölem-Kriener\, Clemens Adlassnigg und Taiko Distelberger musizieren für den Guten Zweck. \nFür das leibliche Wohl sorgen die freiwilligen Helfer vom Roten Kreuz Scheibbs.
URL:https://schmelzer-musikschule-scheibbs.gv.at/termine/spring-festival-scheibbs-tag-3/
ATTACH;FMTTYPE=image/png:https://schmelzer-musikschule-scheibbs.gv.at/wp-content/uploads/2026/02/Come-together26.png
END:VEVENT
END:VCALENDAR