BEGIN:VCALENDAR
VERSION:2.0
PRODID:-//Schmelzer Musikschule - ECPv6.15.20//NONSGML v1.0//EN
CALSCALE:GREGORIAN
METHOD:PUBLISH
X-ORIGINAL-URL:https://schmelzer-musikschule-scheibbs.gv.at
X-WR-CALDESC:Veranstaltungen für Schmelzer Musikschule
REFRESH-INTERVAL;VALUE=DURATION:PT1H
X-Robots-Tag:noindex
X-PUBLISHED-TTL:PT1H
BEGIN:VTIMEZONE
TZID:Europe/Vienna
BEGIN:DAYLIGHT
TZOFFSETFROM:+0100
TZOFFSETTO:+0200
TZNAME:CEST
DTSTART:20230326T010000
END:DAYLIGHT
BEGIN:STANDARD
TZOFFSETFROM:+0200
TZOFFSETTO:+0100
TZNAME:CET
DTSTART:20231029T010000
END:STANDARD
BEGIN:DAYLIGHT
TZOFFSETFROM:+0100
TZOFFSETTO:+0200
TZNAME:CEST
DTSTART:20240331T010000
END:DAYLIGHT
BEGIN:STANDARD
TZOFFSETFROM:+0200
TZOFFSETTO:+0100
TZNAME:CET
DTSTART:20241027T010000
END:STANDARD
BEGIN:DAYLIGHT
TZOFFSETFROM:+0100
TZOFFSETTO:+0200
TZNAME:CEST
DTSTART:20250330T010000
END:DAYLIGHT
BEGIN:STANDARD
TZOFFSETFROM:+0200
TZOFFSETTO:+0100
TZNAME:CET
DTSTART:20251026T010000
END:STANDARD
END:VTIMEZONE
BEGIN:VEVENT
DTSTART;TZID=Europe/Vienna:20241207T110000
DTEND;TZID=Europe/Vienna:20241207T130000
DTSTAMP:20260424T165007
CREATED:20240927T141529Z
LAST-MODIFIED:20241128T124425Z
UID:2904-1733569200-1733576400@schmelzer-musikschule-scheibbs.gv.at
SUMMARY:Adventmatinee Klasse Judith McGregor\, Julia Schwendinger\, Fischer Dominik\, Vroni Loibl & Tobias Pöcksteiner
DESCRIPTION:Es musizieren SchülerInnen der Klassen Judith McGregor\, Julia Schwendinger\, Dominik Fischer\, Vroni Loibl und Tobias Pöcksteiner \nOrt: Schmelzersaal Scheibbs \nBeginn: 11:00
URL:https://schmelzer-musikschule-scheibbs.gv.at/termine/adventmatinee-klasse-judith-mcgregor/
ATTACH;FMTTYPE=image/jpeg:https://schmelzer-musikschule-scheibbs.gv.at/wp-content/uploads/2024/09/Weihnachtsmatinee_Scheibbs_2024_compressed_241128_133834-scaled.jpeg
END:VEVENT
BEGIN:VEVENT
DTSTART;TZID=Europe/Vienna:20241212T173000
DTEND;TZID=Europe/Vienna:20241212T190000
DTSTAMP:20260424T165007
CREATED:20241026T131842Z
LAST-MODIFIED:20241128T122915Z
UID:2930-1734024600-1734030000@schmelzer-musikschule-scheibbs.gv.at
SUMMARY:Klassenabend Klavier\, Klasse Ilse Leinholz
DESCRIPTION:Es musizieren Schülerinnen und Schüler der Klasse Ilse Leinholz \nOrt: Schmelzer Saal Scheibbs \nBeginn 17:30
URL:https://schmelzer-musikschule-scheibbs.gv.at/termine/klassenabend-klavier-klasse-ilse-leinholz/
ATTACH;FMTTYPE=image/jpeg:https://schmelzer-musikschule-scheibbs.gv.at/wp-content/uploads/2024/10/Weihnachtsstimmung-am-Klavier.jpg
END:VEVENT
BEGIN:VEVENT
DTSTART;TZID=Europe/Vienna:20241217T170000
DTEND;TZID=Europe/Vienna:20241217T183000
DTSTAMP:20260424T165007
CREATED:20240927T141753Z
LAST-MODIFIED:20240927T141855Z
UID:2906-1734454800-1734460200@schmelzer-musikschule-scheibbs.gv.at
SUMMARY:Weihnachtsklassenabend - Klasse Taiko Distelberger
DESCRIPTION:Ort: Schmelzer Saal Scheibbs \nBeginn: 17:00
URL:https://schmelzer-musikschule-scheibbs.gv.at/termine/weihnachtsklassenabend-klasse-taiko-distelberger/
END:VEVENT
END:VCALENDAR