BEGIN:VCALENDAR
VERSION:2.0
PRODID:-//Schmelzer Musikschule - ECPv6.15.20//NONSGML v1.0//EN
CALSCALE:GREGORIAN
METHOD:PUBLISH
X-ORIGINAL-URL:https://schmelzer-musikschule-scheibbs.gv.at
X-WR-CALDESC:Veranstaltungen für Schmelzer Musikschule
REFRESH-INTERVAL;VALUE=DURATION:PT1H
X-Robots-Tag:noindex
X-PUBLISHED-TTL:PT1H
BEGIN:VTIMEZONE
TZID:Europe/Vienna
BEGIN:DAYLIGHT
TZOFFSETFROM:+0100
TZOFFSETTO:+0200
TZNAME:CEST
DTSTART:20240331T010000
END:DAYLIGHT
BEGIN:STANDARD
TZOFFSETFROM:+0200
TZOFFSETTO:+0100
TZNAME:CET
DTSTART:20241027T010000
END:STANDARD
BEGIN:DAYLIGHT
TZOFFSETFROM:+0100
TZOFFSETTO:+0200
TZNAME:CEST
DTSTART:20250330T010000
END:DAYLIGHT
BEGIN:STANDARD
TZOFFSETFROM:+0200
TZOFFSETTO:+0100
TZNAME:CET
DTSTART:20251026T010000
END:STANDARD
BEGIN:DAYLIGHT
TZOFFSETFROM:+0100
TZOFFSETTO:+0200
TZNAME:CEST
DTSTART:20260329T010000
END:DAYLIGHT
BEGIN:STANDARD
TZOFFSETFROM:+0200
TZOFFSETTO:+0100
TZNAME:CET
DTSTART:20261025T010000
END:STANDARD
END:VTIMEZONE
BEGIN:VEVENT
DTSTART;TZID=Europe/Vienna:20250605T170000
DTEND;TZID=Europe/Vienna:20250605T180000
DTSTAMP:20260422T224032
CREATED:20250602T162336Z
LAST-MODIFIED:20250602T162336Z
UID:3228-1749142800-1749146400@schmelzer-musikschule-scheibbs.gv.at
SUMMARY:Klassenabend Miki Nagata - Gitarre
DESCRIPTION:Ort: Im Raika-Saal (Raiffeisenbank) in Oberndorf \nBeginn: 17:00
URL:https://schmelzer-musikschule-scheibbs.gv.at/termine/klassenabend-miki-nagata-gitarre/
ATTACH;FMTTYPE=image/jpeg:https://schmelzer-musikschule-scheibbs.gv.at/wp-content/uploads/2025/06/Klassenabend_GitarreMNag2025.jpg
END:VEVENT
BEGIN:VEVENT
DTSTART;TZID=Europe/Vienna:20250606T170000
DTEND;TZID=Europe/Vienna:20250606T180000
DTSTAMP:20260422T224032
CREATED:20250602T162438Z
LAST-MODIFIED:20250602T162438Z
UID:3232-1749229200-1749232800@schmelzer-musikschule-scheibbs.gv.at
SUMMARY:Klassenabend Querflöte - Katharina Kölem-Kriener
DESCRIPTION:Ort: Schmelzersaal \nBeginn: 17:00
URL:https://schmelzer-musikschule-scheibbs.gv.at/termine/klassenabend-querfloete-katharina-koelem-kriener/
END:VEVENT
BEGIN:VEVENT
DTSTART;TZID=Europe/Vienna:20250606T170000
DTEND;TZID=Europe/Vienna:20250606T190000
DTSTAMP:20260422T224032
CREATED:20250310T115107Z
LAST-MODIFIED:20250602T162606Z
UID:3046-1749229200-1749236400@schmelzer-musikschule-scheibbs.gv.at
SUMMARY:Querflöten Klassenabend
DESCRIPTION:Es musizieren SchülerInnen der Klassen Katharina Kölem Kriener. \nOrt: Schmelzer Saal Scheibbs \nBeginn 17:00
URL:https://schmelzer-musikschule-scheibbs.gv.at/termine/querfloeten-klassenabend-3/
ATTACH;FMTTYPE=image/jpeg:https://schmelzer-musikschule-scheibbs.gv.at/wp-content/uploads/2025/06/Klassenabend-Scheibbs-25.pdf-2025-05-16-09_00_42.jpg
END:VEVENT
BEGIN:VEVENT
DTSTART;TZID=Europe/Vienna:20250610T170000
DTEND;TZID=Europe/Vienna:20250610T190000
DTSTAMP:20260422T224032
CREATED:20250312T101633Z
LAST-MODIFIED:20250312T101633Z
UID:3059-1749574800-1749582000@schmelzer-musikschule-scheibbs.gv.at
SUMMARY:Schulschlussfestival Tag 1
DESCRIPTION:
URL:https://schmelzer-musikschule-scheibbs.gv.at/termine/schulschlussfestival-tag-1/
END:VEVENT
BEGIN:VEVENT
DTSTART;TZID=Europe/Vienna:20250611T170000
DTEND;TZID=Europe/Vienna:20250611T190000
DTSTAMP:20260422T224032
CREATED:20250312T101623Z
LAST-MODIFIED:20250312T101623Z
UID:3061-1749661200-1749668400@schmelzer-musikschule-scheibbs.gv.at
SUMMARY:Schulschlussfestival Tag 2
DESCRIPTION:
URL:https://schmelzer-musikschule-scheibbs.gv.at/termine/schulschlussfestival-tag-2/
END:VEVENT
BEGIN:VEVENT
DTSTART;TZID=Europe/Vienna:20250612T170000
DTEND;TZID=Europe/Vienna:20250612T190000
DTSTAMP:20260422T224032
CREATED:20250312T101611Z
LAST-MODIFIED:20250312T101611Z
UID:3063-1749747600-1749754800@schmelzer-musikschule-scheibbs.gv.at
SUMMARY:Schulschlussfestival Tag 3
DESCRIPTION:
URL:https://schmelzer-musikschule-scheibbs.gv.at/termine/schulschlussfestival-tag-3/
END:VEVENT
BEGIN:VEVENT
DTSTART;TZID=Europe/Vienna:20250618T183000
DTEND;TZID=Europe/Vienna:20250618T200000
DTSTAMP:20260422T224032
CREATED:20250616T093749Z
LAST-MODIFIED:20250616T093749Z
UID:3236-1750271400-1750276800@schmelzer-musikschule-scheibbs.gv.at
SUMMARY:Klassenabend Violine\, Klasse Dominik Fischer
DESCRIPTION:Beginn: 18:30 \nOrt: Schmelzersaal \n  \n 
URL:https://schmelzer-musikschule-scheibbs.gv.at/termine/klassenabend-violine-klasse-dominik-fischer-2/
END:VEVENT
BEGIN:VEVENT
DTSTART;TZID=Europe/Vienna:20250622T170000
DTEND;TZID=Europe/Vienna:20250622T190000
DTSTAMP:20260422T224032
CREATED:20250602T161744Z
LAST-MODIFIED:20250602T161744Z
UID:3224-1750611600-1750618800@schmelzer-musikschule-scheibbs.gv.at
SUMMARY:Sylvia Kummer - Oper trifft Musical
DESCRIPTION:Beginn: 18:00 \nOrt: Schmelzer Saal
URL:https://schmelzer-musikschule-scheibbs.gv.at/termine/sylvia-kummer-oper-trifft-musical/
END:VEVENT
BEGIN:VEVENT
DTSTART;TZID=Europe/Vienna:20250623T183000
DTEND;TZID=Europe/Vienna:20250623T193000
DTSTAMP:20260422T224032
CREATED:20250602T162018Z
LAST-MODIFIED:20250602T162018Z
UID:3226-1750703400-1750707000@schmelzer-musikschule-scheibbs.gv.at
SUMMARY:Klassenabend Michael Holub-Scharf\, Gitarre und E-Gitarre
DESCRIPTION:Schmelzersaal \nBeginn: 18:30 \n  \n 
URL:https://schmelzer-musikschule-scheibbs.gv.at/termine/klassenabend-michael-holub-scharf-gitarre-und-e-gitarre/
END:VEVENT
END:VCALENDAR