BEGIN:VCALENDAR
VERSION:2.0
PRODID:-//Schmelzer Musikschule - ECPv6.15.20//NONSGML v1.0//EN
CALSCALE:GREGORIAN
METHOD:PUBLISH
X-WR-CALNAME:Schmelzer Musikschule
X-ORIGINAL-URL:https://schmelzer-musikschule-scheibbs.gv.at
X-WR-CALDESC:Veranstaltungen für Schmelzer Musikschule
REFRESH-INTERVAL;VALUE=DURATION:PT1H
X-Robots-Tag:noindex
X-PUBLISHED-TTL:PT1H
BEGIN:VTIMEZONE
TZID:Europe/Vienna
BEGIN:DAYLIGHT
TZOFFSETFROM:+0100
TZOFFSETTO:+0200
TZNAME:CEST
DTSTART:20240331T010000
END:DAYLIGHT
BEGIN:STANDARD
TZOFFSETFROM:+0200
TZOFFSETTO:+0100
TZNAME:CET
DTSTART:20241027T010000
END:STANDARD
BEGIN:DAYLIGHT
TZOFFSETFROM:+0100
TZOFFSETTO:+0200
TZNAME:CEST
DTSTART:20250330T010000
END:DAYLIGHT
BEGIN:STANDARD
TZOFFSETFROM:+0200
TZOFFSETTO:+0100
TZNAME:CET
DTSTART:20251026T010000
END:STANDARD
BEGIN:DAYLIGHT
TZOFFSETFROM:+0100
TZOFFSETTO:+0200
TZNAME:CEST
DTSTART:20260329T010000
END:DAYLIGHT
BEGIN:STANDARD
TZOFFSETFROM:+0200
TZOFFSETTO:+0100
TZNAME:CET
DTSTART:20261025T010000
END:STANDARD
END:VTIMEZONE
BEGIN:VEVENT
DTSTART;TZID=Europe/Vienna:20251207T113000
DTEND;TZID=Europe/Vienna:20251207T130000
DTSTAMP:20260422T134415
CREATED:20251201T161505Z
LAST-MODIFIED:20251201T165607Z
UID:3309-1765107000-1765112400@schmelzer-musikschule-scheibbs.gv.at
SUMMARY:Funkelnde Dorfweihnacht Reinsberg
DESCRIPTION:Wir bringen vorweihnachtliche Stimmung mit unseren Beiträgen bei den Adventmärkten und freuen uns über viel Publikum.\nAdventkonzert in der Pfarrkirche.
URL:https://schmelzer-musikschule-scheibbs.gv.at/termine/funkelnde-dorfweihnacht-reinsberg/
END:VEVENT
BEGIN:VEVENT
DTSTART;TZID=Europe/Vienna:20251208T180000
DTEND;TZID=Europe/Vienna:20251208T193000
DTSTAMP:20260422T134415
CREATED:20251201T165906Z
LAST-MODIFIED:20251201T165906Z
UID:3321-1765216800-1765222200@schmelzer-musikschule-scheibbs.gv.at
SUMMARY:Mitgestaltung beim Adventkonzert in St. Anton an der Jeßnitz
DESCRIPTION:Wir freuen uns Teil des Adventkonzerts zu sein. Mit unserm kleinen Chor unter der Leitung von Katharina Kölem-Kriener und der Begleitung von Konrad Jankot bringen wir vorweihnachtliche Lieder mit ins Programm.\nPfarrkirche St. Anton/J.
URL:https://schmelzer-musikschule-scheibbs.gv.at/termine/mitgestaltung-beim-adventkonzert-in-st-anton-an-der-jessnitz/
END:VEVENT
BEGIN:VEVENT
DTSTART;TZID=Europe/Vienna:20251212T173000
DTEND;TZID=Europe/Vienna:20251212T183000
DTSTAMP:20260422T134415
CREATED:20251203T094714Z
LAST-MODIFIED:20251203T094714Z
UID:3355-1765560600-1765564200@schmelzer-musikschule-scheibbs.gv.at
SUMMARY:Adventflöten Konzert
DESCRIPTION:Schmelzersaal\, Scheibbs \nEs musizieren die Flötenschülerinnen der Klasse von Katharina Kölem-Kriener.
URL:https://schmelzer-musikschule-scheibbs.gv.at/termine/adventfloeten-konzert/
END:VEVENT
BEGIN:VEVENT
DTSTART;TZID=Europe/Vienna:20251213T150000
DTEND;TZID=Europe/Vienna:20251213T163000
DTSTAMP:20260422T134415
CREATED:20251201T170037Z
LAST-MODIFIED:20251201T170037Z
UID:3323-1765638000-1765643400@schmelzer-musikschule-scheibbs.gv.at
SUMMARY:Eröffnung der Krippenausstellung\, Oberndorf
DESCRIPTION:Die Schülerinnen der Schmelzer Musikschule Oberndorf gestalten wieder das Rahmenprogramm beim Adventmarkt in Oberndorf an der Melk.\nEröffnung: Mehrzweckraum\, Gemeindeamt\, 15:00 Uhr
URL:https://schmelzer-musikschule-scheibbs.gv.at/termine/eroeffnung-der-krippenausstellung-oberndorf/
END:VEVENT
BEGIN:VEVENT
DTSTART;TZID=Europe/Vienna:20251216T180000
DTEND;TZID=Europe/Vienna:20251216T190000
DTSTAMP:20260422T134415
CREATED:20251203T095410Z
LAST-MODIFIED:20251203T095410Z
UID:3360-1765908000-1765911600@schmelzer-musikschule-scheibbs.gv.at
SUMMARY:Musikalischer Adventkalender der Klavierklasse
DESCRIPTION:Schmelzersaal\, Scheibbs \nEs musizieren Schüler:innen der Klavierklasse von Ilse Leinholz.
URL:https://schmelzer-musikschule-scheibbs.gv.at/termine/musikalischer-adventkalender-der-klavierklasse/
END:VEVENT
BEGIN:VEVENT
DTSTART;TZID=Europe/Vienna:20251220T110000
DTEND;TZID=Europe/Vienna:20251220T120000
DTSTAMP:20260422T134415
CREATED:20251203T094939Z
LAST-MODIFIED:20251203T094939Z
UID:3357-1766228400-1766232000@schmelzer-musikschule-scheibbs.gv.at
SUMMARY:Weihnachtsmatinee der Streicherklassen
DESCRIPTION:Schmelzersaal\, Scheibbs \nEs musizieren die Schüler:innen der Violine- und Violaklassen von Judith McGregor\, Veronika Loibl und Dominik Fischer\, \nder Violoncelloklasse von Julia Schwendinger und der Kontrabassklasse von Tobias Pöcksteiner in Ensembles.
URL:https://schmelzer-musikschule-scheibbs.gv.at/termine/weihnachtsmatinee-der-streicherklassen/
END:VEVENT
END:VCALENDAR