BEGIN:VCALENDAR
VERSION:2.0
PRODID:-//Schmelzer Musikschule - ECPv6.15.20//NONSGML v1.0//EN
CALSCALE:GREGORIAN
METHOD:PUBLISH
X-ORIGINAL-URL:https://schmelzer-musikschule-scheibbs.gv.at
X-WR-CALDESC:Veranstaltungen für Schmelzer Musikschule
REFRESH-INTERVAL;VALUE=DURATION:PT1H
X-Robots-Tag:noindex
X-PUBLISHED-TTL:PT1H
BEGIN:VTIMEZONE
TZID:Europe/Vienna
BEGIN:DAYLIGHT
TZOFFSETFROM:+0100
TZOFFSETTO:+0200
TZNAME:CEST
DTSTART:20250330T010000
END:DAYLIGHT
BEGIN:STANDARD
TZOFFSETFROM:+0200
TZOFFSETTO:+0100
TZNAME:CET
DTSTART:20251026T010000
END:STANDARD
BEGIN:DAYLIGHT
TZOFFSETFROM:+0100
TZOFFSETTO:+0200
TZNAME:CEST
DTSTART:20260329T010000
END:DAYLIGHT
BEGIN:STANDARD
TZOFFSETFROM:+0200
TZOFFSETTO:+0100
TZNAME:CET
DTSTART:20261025T010000
END:STANDARD
BEGIN:DAYLIGHT
TZOFFSETFROM:+0100
TZOFFSETTO:+0200
TZNAME:CEST
DTSTART:20270328T010000
END:DAYLIGHT
BEGIN:STANDARD
TZOFFSETFROM:+0200
TZOFFSETTO:+0100
TZNAME:CET
DTSTART:20271031T010000
END:STANDARD
END:VTIMEZONE
BEGIN:VEVENT
DTSTART;TZID=Europe/Vienna:20260318T190000
DTEND;TZID=Europe/Vienna:20260318T193000
DTSTAMP:20260420T112711
CREATED:20260306T202342Z
LAST-MODIFIED:20260306T202342Z
UID:3620-1773860400-1773862200@schmelzer-musikschule-scheibbs.gv.at
SUMMARY:1. Auftritt\, Bläserklassen Orchester Oberndorf
DESCRIPTION:Zu unserem 1. Auftritt laden wir herzlich am Mi\, 18. März\, 19:00 Uhr in die Schmelzer Musikschule Oberndorf ein.
URL:https://schmelzer-musikschule-scheibbs.gv.at/termine/1-auftritt-blaeserklassen-orchester-oberndorf/
END:VEVENT
BEGIN:VEVENT
DTSTART;TZID=Europe/Vienna:20260318T190000
DTEND;TZID=Europe/Vienna:20260318T193000
DTSTAMP:20260420T112711
CREATED:20260310T132515Z
LAST-MODIFIED:20260310T132515Z
UID:3629-1773860400-1773862200@schmelzer-musikschule-scheibbs.gv.at
SUMMARY:1. Auftritt\, Vorspielstunde
DESCRIPTION:Es musizieren Schülerinnen des Bläserklassen Orchesters Oberndorf. \nProbesaal\, 1. Stock\, Schmelzer Musikschule Oberndorf.
URL:https://schmelzer-musikschule-scheibbs.gv.at/termine/1-auftritt-vorspielstunde/
END:VEVENT
BEGIN:VEVENT
DTSTART;TZID=Europe/Vienna:20260319T180000
DTEND;TZID=Europe/Vienna:20260319T190000
DTSTAMP:20260420T112711
CREATED:20260310T132305Z
LAST-MODIFIED:20260310T132305Z
UID:3627-1773943200-1773946800@schmelzer-musikschule-scheibbs.gv.at
SUMMARY:Saitenklänge in Reinsberg
DESCRIPTION:Es musizieren Schülerinnen und Schüler der Klasse von Anna Prankl. \nPanoramasaal in der Schmelzer Musikschule Reinsberg.
URL:https://schmelzer-musikschule-scheibbs.gv.at/termine/saitenklaenge-in-reinsberg/
END:VEVENT
BEGIN:VEVENT
DTSTART;TZID=Europe/Vienna:20260322T150000
DTEND;TZID=Europe/Vienna:20260322T170000
DTSTAMP:20260420T112711
CREATED:20260209T161925Z
LAST-MODIFIED:20260209T162135Z
UID:3394-1774191600-1774198800@schmelzer-musikschule-scheibbs.gv.at
SUMMARY:Frühlingskonzert in der Schmelzer Musikschule Göstling
DESCRIPTION:
URL:https://schmelzer-musikschule-scheibbs.gv.at/termine/fruehlingskonzert-in-der-schmelzer-musikschule-goestling/
ATTACH;FMTTYPE=image/jpeg:https://schmelzer-musikschule-scheibbs.gv.at/wp-content/uploads/2026/02/bc154db3-a5ba-46f4-b34b-75cc2d9e2408.jpg
END:VEVENT
BEGIN:VEVENT
DTSTART;TZID=Europe/Vienna:20260322T170000
DTEND;TZID=Europe/Vienna:20260322T193000
DTSTAMP:20260420T112711
CREATED:20260209T152512Z
LAST-MODIFIED:20260306T202206Z
UID:3392-1774198800-1774207800@schmelzer-musikschule-scheibbs.gv.at
SUMMARY:Gesangsklassen Abend
DESCRIPTION:Schmelzersaal \nEs musizieren Schülerinnen und Schüler der Klasse von Sylvia Kummer
URL:https://schmelzer-musikschule-scheibbs.gv.at/termine/gesangsklassen-abend/
END:VEVENT
BEGIN:VEVENT
DTSTART;TZID=Europe/Vienna:20260324T190000
DTEND;TZID=Europe/Vienna:20260324T200000
DTSTAMP:20260420T112711
CREATED:20260306T202444Z
LAST-MODIFIED:20260306T202444Z
UID:3622-1774378800-1774382400@schmelzer-musikschule-scheibbs.gv.at
SUMMARY:Klavier Klassenabend\, Oberndorf
DESCRIPTION:Es musizieren Schülerinnen und Schüler der Klavierklasse von Konrad Jankot.
URL:https://schmelzer-musikschule-scheibbs.gv.at/termine/klavier-klassenabend-oberndorf/
END:VEVENT
END:VCALENDAR