BEGIN:VCALENDAR
VERSION:2.0
PRODID:-//Schmelzer Musikschule - ECPv6.15.20//NONSGML v1.0//EN
CALSCALE:GREGORIAN
METHOD:PUBLISH
X-WR-CALNAME:Schmelzer Musikschule
X-ORIGINAL-URL:https://schmelzer-musikschule-scheibbs.gv.at
X-WR-CALDESC:Veranstaltungen für Schmelzer Musikschule
REFRESH-INTERVAL;VALUE=DURATION:PT1H
X-Robots-Tag:noindex
X-PUBLISHED-TTL:PT1H
BEGIN:VTIMEZONE
TZID:Europe/Vienna
BEGIN:DAYLIGHT
TZOFFSETFROM:+0100
TZOFFSETTO:+0200
TZNAME:CEST
DTSTART:20250330T010000
END:DAYLIGHT
BEGIN:STANDARD
TZOFFSETFROM:+0200
TZOFFSETTO:+0100
TZNAME:CET
DTSTART:20251026T010000
END:STANDARD
BEGIN:DAYLIGHT
TZOFFSETFROM:+0100
TZOFFSETTO:+0200
TZNAME:CEST
DTSTART:20260329T010000
END:DAYLIGHT
BEGIN:STANDARD
TZOFFSETFROM:+0200
TZOFFSETTO:+0100
TZNAME:CET
DTSTART:20261025T010000
END:STANDARD
BEGIN:DAYLIGHT
TZOFFSETFROM:+0100
TZOFFSETTO:+0200
TZNAME:CEST
DTSTART:20270328T010000
END:DAYLIGHT
BEGIN:STANDARD
TZOFFSETFROM:+0200
TZOFFSETTO:+0100
TZNAME:CET
DTSTART:20271031T010000
END:STANDARD
END:VTIMEZONE
BEGIN:VEVENT
DTSTART;TZID=Europe/Vienna:20260508T160000
DTEND;TZID=Europe/Vienna:20260508T170000
DTSTAMP:20260419T151251
CREATED:20260209T163520Z
LAST-MODIFIED:20260209T163532Z
UID:3414-1778256000-1778259600@schmelzer-musikschule-scheibbs.gv.at
SUMMARY:Malakademie Aktionsnachmittag zum Tag der NÖ Musik- und Kunstschulen
DESCRIPTION:Das Interesse Wecken an den lokalen Sehenswürdigkeiten der umliegenden Gemeinden – im Eisenstraßen Malbuch
URL:https://schmelzer-musikschule-scheibbs.gv.at/termine/malakademie-aktionsnachmittag-zu-tag-der-noe-musik-und-kunstschulen/
END:VEVENT
BEGIN:VEVENT
DTSTART;TZID=Europe/Vienna:20260522T083000
DTEND;TZID=Europe/Vienna:20260522T103000
DTSTAMP:20260419T151251
CREATED:20260209T163630Z
LAST-MODIFIED:20260209T163630Z
UID:3417-1779438600-1779445800@schmelzer-musikschule-scheibbs.gv.at
SUMMARY:Bezirksjugend Singen im Stadtgebiet Scheibbs
DESCRIPTION:Wir sind mitdabei
URL:https://schmelzer-musikschule-scheibbs.gv.at/termine/bezirksjugend-singen-im-stadtgebiet-scheibbs/
END:VEVENT
BEGIN:VEVENT
DTSTART;TZID=Europe/Vienna:20260526T163000
DTEND;TZID=Europe/Vienna:20260526T183000
DTSTAMP:20260419T151251
CREATED:20260209T163732Z
LAST-MODIFIED:20260209T163732Z
UID:3419-1779813000-1779820200@schmelzer-musikschule-scheibbs.gv.at
SUMMARY:Saxophon Klassenabend
DESCRIPTION:Es musizieren Schüler:innen der Klasse Irene Kraus
URL:https://schmelzer-musikschule-scheibbs.gv.at/termine/saxophon-klassenabend/
END:VEVENT
END:VCALENDAR